BEGIN:VCALENDAR
VERSION:2.0
PRODID:-//Клуб Революция - ECPv6.15.20//NONSGML v1.0//EN
CALSCALE:GREGORIAN
METHOD:PUBLISH
X-WR-CALNAME:Клуб Революция
X-ORIGINAL-URL:https://revdk.ru
X-WR-CALDESC:Мероприятия для Клуб Революция
REFRESH-INTERVAL;VALUE=DURATION:PT1H
X-Robots-Tag:noindex
X-PUBLISHED-TTL:PT1H
BEGIN:VTIMEZONE
TZID:Asia/Novosibirsk
BEGIN:STANDARD
TZOFFSETFROM:+0700
TZOFFSETTO:+0700
TZNAME:+07
DTSTART:20250101T000000
END:STANDARD
END:VTIMEZONE
BEGIN:VEVENT
DTSTART;TZID=Asia/Novosibirsk:20260425T160000
DTEND;TZID=Asia/Novosibirsk:20260425T170000
DTSTAMP:20260425T012852
CREATED:20260420T084202Z
LAST-MODIFIED:20260420T084202Z
UID:17095-1777132800-1777136400@revdk.ru
SUMMARY:Финал конкурса «Достояние Сибири»
DESCRIPTION:Финальный этап Межрегионального конкурса-проекта достижений\, красоты и талантов «Достояние Сибири — 2026»  пройдет в Новосибирске. \nКонкурс является важным социальным проектом для интеграции женщин из районов и городов Сибирского Федерального округа в единое творческое макрокультурное пространство\, с равными возможностями для всех его участников\, созданное для реализации женщины как активной творческой личности в современном мире. \nСреди участниц конкурса — женщины\, получившие признание и добившиеся успеха в одной из перечисленных сфер жизни: профессиональная деятельность\, спорт\, творчество\, общественная деятельность\, материнство и детство. Проект проходит при официальной поддержке Министерства культуры НСО. \nЖюри выберет обладательниц специальных номинаций и конечно\, победительниц\, входящих в ТОП 5 конкурса Межрегионального конкурса-проекта достижений\, красоты и талантов «Достояние Сибири — 2026». \n  \n  \n  \n \n 
URL:https://revdk.ru/afisha/26-04-2026/
LOCATION:Клуб Революция Большой зал\, ул. Ленина 24\, Новосибирск г.\, Российская Федерация
ATTACH;FMTTYPE=image/jpeg:https://revdk.ru/wp-content/uploads/2026/04/828ec24a-2bb1-458b-b72b-7f7d082a24ee.jpg
END:VEVENT
END:VCALENDAR