BEGIN:VCALENDAR
VERSION:2.0
PRODID:-//Клуб Революция - ECPv6.15.20//NONSGML v1.0//EN
CALSCALE:GREGORIAN
METHOD:PUBLISH
X-WR-CALNAME:Клуб Революция
X-ORIGINAL-URL:https://revdk.ru
X-WR-CALDESC:Мероприятия для Клуб Революция
REFRESH-INTERVAL;VALUE=DURATION:PT1H
X-Robots-Tag:noindex
X-PUBLISHED-TTL:PT1H
BEGIN:VTIMEZONE
TZID:Asia/Novosibirsk
BEGIN:STANDARD
TZOFFSETFROM:+0700
TZOFFSETTO:+0700
TZNAME:+07
DTSTART:20250101T000000
END:STANDARD
END:VTIMEZONE
BEGIN:VEVENT
DTSTART;TZID=Asia/Novosibirsk:20260424T160000
DTEND;TZID=Asia/Novosibirsk:20260424T170000
DTSTAMP:20260424T013000
CREATED:20260408T081037Z
LAST-MODIFIED:20260414T091502Z
UID:17029-1777046400-1777050000@revdk.ru
SUMMARY:Диктант Победы
DESCRIPTION:  \n \n  \n \n \n \nТелеграмм канал \nГруппа обсуждений событий ДК в Вотсап \n 
URL:https://revdk.ru/afisha/24042026/
LOCATION:Клуб Революция МАЛЫЙ ЗАЛ\, ул. Ленина 24\, Новосибирск\, Российская Федерация
ATTACH;FMTTYPE=image/png:https://revdk.ru/wp-content/uploads/2026/04/вапвапа-1.png
END:VEVENT
END:VCALENDAR