BEGIN:VCALENDAR
VERSION:2.0
PRODID:-//Клуб Революция - ECPv6.15.20//NONSGML v1.0//EN
CALSCALE:GREGORIAN
METHOD:PUBLISH
X-WR-CALNAME:Клуб Революция
X-ORIGINAL-URL:https://revdk.ru
X-WR-CALDESC:Мероприятия для Клуб Революция
REFRESH-INTERVAL;VALUE=DURATION:PT1H
X-Robots-Tag:noindex
X-PUBLISHED-TTL:PT1H
BEGIN:VTIMEZONE
TZID:Asia/Novosibirsk
BEGIN:STANDARD
TZOFFSETFROM:+0700
TZOFFSETTO:+0700
TZNAME:+07
DTSTART:20220101T000000
END:STANDARD
END:VTIMEZONE
BEGIN:VEVENT
DTSTART;TZID=Asia/Novosibirsk:20240125T190000
DTEND;TZID=Asia/Novosibirsk:20240125T210000
DTSTAMP:20260423T052238
CREATED:20240117T074141Z
LAST-MODIFIED:20240117T075625Z
UID:12143-1706209200-1706216400@revdk.ru
SUMMARY:Традиционный квартирник бард-объединения Станция Сибирь
DESCRIPTION:Образцовый детский коллектив Клуб самодеятельной песни «Свечи» (Кольцово). Сергей Семёнов — руководитель клуба\, педагог\, автор-исполнитель. \nВход бесплатный\, обязательна регистрация \nБЕСПЛАТНАЯ РЕГИСТРАЦИЯ ЗДЕСЬ \nРАСПЕЧАТЫВАТЬ билеты НЕ нужно\, достаточно показать их на телефоне. Готовьте их заранее! \nХотите быть в курсе событий в ДК\, присоединяйтесь к группе в Вотсапе \nВНИМАНИЕ!\nЕсли вы зарегистрировались\, но ваши планы изменились\, обязательно отмените регистрацию. Если не получается сделать это самостоятельно\, напишите на в Вотсап +79131000019 \nЗАДАТЬ ВОПРОС
URL:https://revdk.ru/afisha/25-01-2024/
LOCATION:Клуб Революция зал 116
CATEGORIES:БАРДЫ
ATTACH;FMTTYPE=image/webp:https://revdk.ru/wp-content/uploads/2024/01/Барды-Клуб-Революция-Новосибирск_новый-размер.webp
END:VEVENT
BEGIN:VEVENT
DTSTART;TZID=Asia/Novosibirsk:20240111T190000
DTEND;TZID=Asia/Novosibirsk:20240111T210000
DTSTAMP:20260423T052238
CREATED:20240104T094430Z
LAST-MODIFIED:20240110T052037Z
UID:12079-1704999600-1705006800@revdk.ru
SUMMARY:Традиционный квартирник бард-объединения Станция Сибирь
DESCRIPTION:Традиционный квартирник бард-объединения Станция Сибирь \nГость — Виктор Муравьёв из Барнаула \n  \nВход бесплатный\, обязательна регистрация \nБЕСПЛАТНАЯ РЕГИСТРАЦИЯ ЗДЕСЬ \nРАСПЕЧАТЫВАТЬ билеты НЕ нужно\, достаточно показать их на телефоне. Готовьте их заранее! \nХотите быть в курсе событий в ДК\, присоединяйтесь к группе в Вотсапе \nВНИМАНИЕ!\nЕсли вы зарегистрировались\, но ваши планы изменились\, обязательно отмените регистрацию. Если не получается сделать это самостоятельно\, напишите на в Вотсап +79131000019 \nЗАДАТЬ ВОПРОС
URL:https://revdk.ru/afisha/11-01-2024/
LOCATION:Клуб Революция зал 116
CATEGORIES:БАРДЫ
ATTACH;FMTTYPE=image/jpeg:https://revdk.ru/wp-content/uploads/2024/01/WhatsApp-Image-2024-01-03-at-21.42.23.jpeg
END:VEVENT
BEGIN:VEVENT
DTSTART;TZID=Asia/Novosibirsk:20231116T190000
DTEND;TZID=Asia/Novosibirsk:20231116T210000
DTSTAMP:20260423T052238
CREATED:20231030T061633Z
LAST-MODIFIED:20231030T063035Z
UID:11429-1700161200-1700168400@revdk.ru
SUMMARY:Квартирник «Станции Сибирь»
DESCRIPTION:Традиционный квартирник бард-объединения Станция Сибирь \nГруппа «Дети понедельника» Сергей Гребнев — Евгений Пашков \n  \nВход бесплатный\, обязательна регистрация \nБЕСПЛАТНАЯ РЕГИСТРАЦИЯ ЗДЕСЬ \nРАСПЕЧАТЫВАТЬ билеты НЕ нужно\, достаточно показать их на телефоне. Готовьте их заранее! \nХотите быть в курсе событий в ДК\, присоединяйтесь к группе в Вотсапе \nВНИМАНИЕ!\nЕсли вы зарегистрировались\, но ваши планы изменились\, обязательно отмените регистрацию. Если не получается сделать это самостоятельно\, напишите на в Вотсап +79131000019 \nЗАДАТЬ ВОПРОС
URL:https://revdk.ru/afisha/16-11-2023/
LOCATION:Клуб Революция\, ул. Ленина 24\, Новосибирск\, Российская Федерация
CATEGORIES:БАРДЫ,ЗАЛ 116
ATTACH;FMTTYPE=image/jpeg:https://revdk.ru/wp-content/uploads/2023/10/Барды-шаблон-2023-24-новый-сезон-8219096_новый-размер.jpg
END:VEVENT
BEGIN:VEVENT
DTSTART;TZID=Asia/Novosibirsk:20231012T190000
DTEND;TZID=Asia/Novosibirsk:20231012T210000
DTSTAMP:20260423T052238
CREATED:20231002T114753Z
LAST-MODIFIED:20231002T115343Z
UID:11021-1697137200-1697144400@revdk.ru
SUMMARY:Квартирник «Станции Сибирь»
DESCRIPTION:Традиционный квартирник бард-объединения Станция Сибирь \n  \nВход бесплатный\, обязательна регистрация \nБЕСПЛАТНАЯ РЕГИСТРАЦИЯ ЗДЕСЬ \nРАСПЕЧАТЫВАТЬ билеты НЕ нужно\, достаточно показать их на телефоне. Готовьте их заранее! \nХотите быть в курсе событий в ДК\, присоединяйтесь к группе в Вотсапе \nВНИМАНИЕ!\nЕсли вы зарегистрировались\, но ваши планы изменились\, обязательно отмените регистрацию. Если не получается сделать это самостоятельно\, напишите на в Вотсап +79131000019 \nЗАДАТЬ ВОПРОС
URL:https://revdk.ru/afisha/12102023/
CATEGORIES:БАРДЫ,ЗАЛ 116,КВАРТИРНИК
ATTACH;FMTTYPE=image/webp:https://revdk.ru/wp-content/uploads/2023/10/Станция-Сибирь-Новосибирск-Клуб-Революция-12-октября-2023_новый-размер.webp
END:VEVENT
END:VCALENDAR